BEGIN:VCALENDAR
PRODID:-//kirchenweb.ch gmbh//veranstaltungsausgabe v2.0//DE
VERSION:2.0
METHOD:PUBLISH
BEGIN:VEVENT
DTSTART:20140131T133000Z
DTEND:20140131T143000Z
LOCATION:Kirchgemeindehaus Melchenbühl\, Bersetweg 19\, 3073 Gümligen
TRANSP:OPAQUE
SEQUENCE:0
UID:9368-veranstaltung@rkmg.ch
DTSTAMP:20131220T064756Z
DESCRIPTION:Kontakt: Marlise Marti\, Turbenweg 14\, 3073 Gümligen\n031
  951 29 04\n\nWeitere Infos: https://www.rkmg.ch/veranstaltung/9368
SUMMARY:Fröhliches Tanzen 49/14
PRIORITY:5
X-MICROSOFT-CDO-IMPORTANCE:1
CLASS:PUBLIC
END:VEVENT
END:VCALENDAR
