BEGIN:VCALENDAR
PRODID:-//kirchenweb.ch gmbh//veranstaltungsausgabe v2.0//DE
VERSION:2.0
METHOD:PUBLISH
BEGIN:VEVENT
DTSTART:20140121T133000Z
DTEND:20140121T143000Z
LOCATION:Kirchgemeindehaus Muri\, Thunstrasse 98\, 3074 Muri
TRANSP:OPAQUE
SEQUENCE:0
UID:9217-veranstaltung@rkmg.ch
DTSTAMP:20140113T123338Z
DESCRIPTION:Seniorennachmittag \n„WINTER“ In Texten\, Bildern und Mu-
  sik beschäftigt sich Philippe Stalder mit dieser kalten Jah- reszeit\,
  die doch so manches neues Leben in sich trägt\n\nKontakt: Philippe
  Stalder\n\nWeitere Infos: https://www.rkmg.ch/veranstaltung/9217
SUMMARY:Altersnachmittag Mu-Se
PRIORITY:5
X-MICROSOFT-CDO-IMPORTANCE:1
CLASS:PUBLIC
END:VEVENT
END:VCALENDAR
