BEGIN:VCALENDAR
PRODID:-//kirchenweb.ch gmbh//veranstaltungsausgabe v2.0//DE
VERSION:2.0
METHOD:PUBLISH
BEGIN:VEVENT
DTSTART:20140130T184500Z
DTEND:20140130T194500Z
LOCATION:Kirchgemeindehaus Gümligen\, Dorfstrasse 76\, 3073 Gümligen
TRANSP:OPAQUE
SEQUENCE:0
UID:8963-veranstaltung@rkmg.ch
DTSTAMP:20131118T104409Z
DESCRIPTION:Kontakt: Ewald Lucas\, Farnsbergstrasse 31\, 3360
  Herzogenbuchsee\n062 961 60 75\n\nWeitere Infos:
  https://www.rkmg.ch/veranstaltung/8963
SUMMARY:Kirchenchorprobe
PRIORITY:5
X-MICROSOFT-CDO-IMPORTANCE:1
CLASS:PUBLIC
END:VEVENT
END:VCALENDAR
