BEGIN:VCALENDAR
PRODID:-//kirchenweb.ch gmbh//veranstaltungsausgabe v2.0//DE
VERSION:2.0
METHOD:PUBLISH
BEGIN:VEVENT
DTSTART:20120213T110000Z
DTEND:20120213T120000Z
LOCATION:Thoracherhus\, Kranichweg 10\, 3074 Muri
TRANSP:OPAQUE
SEQUENCE:0
UID:8-veranstaltung@rkmg.ch
DTSTAMP:20120110T152038Z
DESCRIPTION:Mittagessen in geselligem Rahmen.\n\nAnmeldung bis Montag\,
  9.30 Uhr bei\nFrancine.Vaucher.\n\nKosten: 12.- Franken\, inklusive Suppe
  und Kaffee/Tee.\n\nhttp://www.rkmg.ch/stubete\n\nKontakt: Francine
  Vaucher\n\nWeitere Infos: https://www.rkmg.ch/veranstaltung/8
SUMMARY:Stubete
PRIORITY:5
X-MICROSOFT-CDO-IMPORTANCE:1
CLASS:PUBLIC
END:VEVENT
END:VCALENDAR
