BEGIN:VCALENDAR
PRODID:-//kirchenweb.ch gmbh//veranstaltungsausgabe v2.0//DE
VERSION:2.0
METHOD:PUBLISH
BEGIN:VEVENT
DTSTART:20140119T090000Z
DTEND:20140119T100000Z
LOCATION:Nydegg-Kirche\, \,  Bern
TRANSP:OPAQUE
SEQUENCE:0
UID:7764-veranstaltung@rkmg.ch
DTSTAMP:20141027T212134Z
DESCRIPTION:gemeinsam mit der Pfarrei Bruder Klaus und der
  Mennoniten-Gemeinde\n\nKontakt: gabrielle.ceppi-kleinert@rkmg.ch\n
 \nWeitere Infos: https://www.rkmg.ch/veranstaltung/7764
SUMMARY:Ökumenischer Gottesdienst in der Nydegg-Kirche
PRIORITY:5
X-MICROSOFT-CDO-IMPORTANCE:1
CLASS:PUBLIC
END:VEVENT
END:VCALENDAR
