BEGIN:VCALENDAR
PRODID:-//kirchenweb.ch gmbh//veranstaltungsausgabe v2.0//DE
VERSION:2.0
METHOD:PUBLISH
BEGIN:VEVENT
DTSTART:20140130T150000Z
DTEND:20140130T160000Z
LOCATION:Kirchgemeindehaus Muri\, Thunstrasse 98\, 3074 Muri
TRANSP:OPAQUE
SEQUENCE:0
UID:7512-veranstaltung@rkmg.ch
DTSTAMP:20130925T152038Z
DESCRIPTION:Gesprächsrunden zum Thema: Der historische Jesus - was wissen
  wir von Jesus wirklich?\nDie Gesprächsrunden können problemlos auch
  einzeln besucht werden.\n4. Nachmittag:\nDie Taten Jesu\n\nnach dem Buch
  von Traugott Holtz: Jesus aus Nazareth (calwer taschenbibliothek\, ISBN
  3-7668-3617-X)\nPhilippe Stalder bringt jeweilen eine Zusammenfassung der
  wichtigsten Informationen aus dem Büchlein.\n\nKontakt: Philippe Stalder
 \n\nWeitere Infos: https://www.rkmg.ch/veranstaltung/7512
SUMMARY:Offene Gesprächsrunden
PRIORITY:5
X-MICROSOFT-CDO-IMPORTANCE:1
CLASS:PUBLIC
END:VEVENT
END:VCALENDAR
