BEGIN:VCALENDAR
PRODID:-//kirchenweb.ch gmbh//veranstaltungsausgabe v2.0//DE
VERSION:2.0
METHOD:PUBLISH
BEGIN:VEVENT
DTSTART:20140615T080000Z
DTEND:20140615T090000Z
LOCATION:Kirche Muri\, Thunstrasse 98\, 3074 Muri
TRANSP:OPAQUE
SEQUENCE:0
UID:6944-veranstaltung@rkmg.ch
DTSTAMP:20140614T090839Z
DESCRIPTION:«… nicht: du sollst. Das Evangelium sagt: du bist.» 
  (Eberhard Jüngel)\n\nEingangsspiel:  Max Glauser\, Allmendingen\nLied
  166: „Schweige und höre\, neige deines Herzens Ohr\, suche den
  Frieden“ (kombiniert mit dem Gebet) \nLesung aus dem Ersten Testament\,
  Sacharja 13\,9 (Herrnhuter Losungen zum 15. Juni 2014): „Ich will sie
  durchs Feuer gehen lassen und läutern\, wie man Silber läutert\, und
  prüfen\, wie man Gold prüft. Dann werden sie meinen Namen anrufen\, und
  ich will sie erhören“\nLied 702\, 1-4: „Kum ba yah\, my Lord\, kum
  ba ya“ (215)\nLesung aus dem Zweiten Testament\, 2. Korinther 1\, 3-5;
  7 (Vers 7 nach den Herrnhuter Losungen zum 15. Juni): Paulus schreibt:
  Gelobt sei der Gott und Vater unseres Herrn Jesus Christus\, der Vater
  der Barmherzigkeit und Gott alles Trostes\, der uns tröstet in all
  unserer Bedrängnis\, damit wir die trösten können\, die in allerlei
  Bedrängnis sind\, durch den Trost\, mit dem wir selbst von Gott
  getröstet werden. Denn wie die Leiden des Christus sich reichlich über
  uns ergiessen\, so fließt auch durch Christus reichlich unser Trost. 6
  [...] 7 Und unsere Hoffnung steht fest für euch\, weil wir wissen: Wie
  ihr an den Leiden teilhabt\, so werdet ihr auch am Trost teilhaben. 
 \nPredigt in vier Bildern\nZwischenspiel\nGebet\nDazwischen Refrain aus
  Lied 457: „Mitten unter uns steht er unerkannt“\nLied 457\, 1-3:
  „Was ihr dem geringsten Menschen tut\, das habt ihr ihm getan“\n
 \nKollekte:
  http://www.heks.ch/fileadmin/user_upload/domain1/1_news_and_service/pdf/K
 ampagnen/FlueSo2014/HEKS_Fluechtlingssonntag2014_Kollektenansagen_Fl%C3%BC
 chtlingsarbeit.pdf\n\nLied 517\, 1+3+5: „Beschirm uns\, Gott\, bleib
  unser Hort“\nSegen\nAusgangsspiel\n\nMusik: Max Glauser\, Orgel und
  Marlène Hulliger - wohl ohne die Frauengruppe aus Eriträa.\n
 \nAnschliessend Brunch im Kirchgemeindehaus Muri mit Heidi Hugi und der
  Gruppe Tannental\n
 \nhttp://www.heks.ch/news-service/kampagnen/fluechtlingssonntag-2014/\n
 \nKontakt: Christoph Knoch\n\nWeitere Infos:
  https://www.rkmg.ch/veranstaltung/6944
SUMMARY:Gottesdienst Muri (Flüchtlingssonntag) (CK/Team)
PRIORITY:5
X-MICROSOFT-CDO-IMPORTANCE:1
CLASS:PUBLIC
END:VEVENT
END:VCALENDAR
