BEGIN:VCALENDAR
PRODID:-//kirchenweb.ch gmbh//veranstaltungsausgabe v2.0//DE
VERSION:2.0
METHOD:PUBLISH
BEGIN:VEVENT
DTSTART:20140616T054500Z
DTEND:20140616T064500Z
LOCATION:.\, \,
TRANSP:OPAQUE
SEQUENCE:0
UID:6879-veranstaltung@rkmg.ch
DTSTAMP:20140324T152255Z
DESCRIPTION:\n\nKontakt: Karin Duru\n\n\nWeitere Infos:
  https://www.rkmg.ch/veranstaltung/6879
SUMMARY:Amtswoche (KD)
PRIORITY:5
X-MICROSOFT-CDO-IMPORTANCE:1
CLASS:PUBLIC
END:VEVENT
END:VCALENDAR
