BEGIN:VCALENDAR
PRODID:-//kirchenweb.ch gmbh//veranstaltungsausgabe v2.0//DE
VERSION:2.0
METHOD:PUBLISH
BEGIN:VEVENT
DTSTART:20140120T064500Z
DTEND:20140120T074500Z
LOCATION:.\, \,
TRANSP:OPAQUE
SEQUENCE:0
UID:6858-veranstaltung@rkmg.ch
DTSTAMP:20131230T134921Z
DESCRIPTION:\n\nKontakt: Philippe Stalder\n\nWeitere Infos:
  https://www.rkmg.ch/veranstaltung/6858
SUMMARY:Amtswoche (PS)
PRIORITY:5
X-MICROSOFT-CDO-IMPORTANCE:1
CLASS:PUBLIC
END:VEVENT
END:VCALENDAR
