BEGIN:VCALENDAR
PRODID:-//kirchenweb.ch gmbh//veranstaltungsausgabe v2.0//DE
VERSION:2.0
METHOD:PUBLISH
BEGIN:VEVENT
DTSTART:20130529T071000Z
DTEND:20130529T081000Z
LOCATION:(Ende 17:33)  Bahnhof Gümligen (beim Kiosk)\, Bahnhofstrasse
  31\, 3073 Gümligen
TRANSP:OPAQUE
SEQUENCE:0
UID:6596-veranstaltung@rkmg.ch
DTSTAMP:20150819T193608Z
DESCRIPTION:Was machst du mit einem schulfreien Tag\, da
  Lehrerfortbildung? Richtig\, raus in die Natur! Die Kletterfreaks
  zieht’s raus aus der Halle an die Felswand. Wir fahren nach Wimmis in
  den Steinbruch\, wo wir unterschiedlichste Routen klettern können.
  Willst du also hoch hinauf\, natürlich professionell angeleitet und
  richtig gesichert?\n\nMitnehmen:\nHelm obligatorisch! (Kletter- oder
  Velohelm)\nVerpflegung (genügend Trinkwasser\, kein Brunnen vorhanden)\,
  evtl. etwas zum Bräteln\, Kletterfinken (z.B. ausgelehnt bei Freunden
  oder gemietet) oder gut sitzende Turnschuhe\, wetterentsprechende
  Kleidung.\n\nBemerkungen\nBei nass-kaltem Wetter weichen wir aus in die
  Kletterhalle in Thun\, die Zeiten bleiben gleich.\n\nUnkostenbeitrag
 \n25.- (für die Reise per öV und an die Kosten der professionellen
  Kletterlehrer). Aus finanziellen Gründen muss niemand auf das Angebot
  verzichten\, bitte Kontakt aufnehmen. Kostenreduktionen sind möglich!
  Bitte den Betrag zum Treffpunkt mitbringen.\n\nBeim letzten Mal gab's
  einen http://www.rkmg.ch/bericht/177 und 
  https://plus.google.com/photos/113037239220357480563/albums/5726082422093
 469601?banner=pwa
 \nhttps://picasaweb.google.com/data/feed/base/user/113037239220357480563/a
 lbumid/5726082422093469601?alt=rss&kind=photo&hl=de\nAktueller
  http://www.derbund.ch/wetter/lokalprognose/ort.html?name=wimmis\n\nMehr
  Infos zur gesamten BoX und den aktuellen Angeboten gibts hier\n\nWenn du
  mehr über die Jugendarbeit wissen willst\, klicke hier\n\nKontakt:
  Gerhard Wyser\n\nWeitere Infos: https://www.rkmg.ch/veranstaltung/6596
SUMMARY:BoX: Outdoor-Klettern (schulfrei!)
PRIORITY:5
X-MICROSOFT-CDO-IMPORTANCE:1
CLASS:PUBLIC
END:VEVENT
END:VCALENDAR
