BEGIN:VCALENDAR
PRODID:-//kirchenweb.ch gmbh//veranstaltungsausgabe v2.0//DE
VERSION:2.0
METHOD:PUBLISH
BEGIN:VEVENT
DTSTART:20120612T071500Z
DTEND:20120612T081500Z
LOCATION:Thoracherhus\, Kranichweg 10\, 3074 Muri
TRANSP:OPAQUE
SEQUENCE:0
UID:542-veranstaltung@rkmg.ch
DTSTAMP:20111215T101742Z
DESCRIPTION:Kontakt: Regula von Greyerz\n\nWeitere Infos:
  https://www.rkmg.ch/veranstaltung/542
SUMMARY:Café littéraire
PRIORITY:5
X-MICROSOFT-CDO-IMPORTANCE:1
CLASS:PUBLIC
END:VEVENT
END:VCALENDAR
