BEGIN:VCALENDAR
PRODID:-//kirchenweb.ch gmbh//veranstaltungsausgabe v2.0//DE
VERSION:2.0
METHOD:PUBLISH
BEGIN:VEVENT
DTSTART:20130528T063000Z
DTEND:20130528T073000Z
LOCATION:Thoracherhus\, Kranichweg 10\, 3074 Muri
TRANSP:OPAQUE
SEQUENCE:0
UID:5160-veranstaltung@rkmg.ch
DTSTAMP:20120919T091227Z
DESCRIPTION:Kontakt: Evelyne Friederich\n\nWeitere Infos:
  https://www.rkmg.ch/veranstaltung/5160
SUMMARY:Diakonie-Sitzung
PRIORITY:5
X-MICROSOFT-CDO-IMPORTANCE:1
CLASS:PUBLIC
END:VEVENT
END:VCALENDAR
