BEGIN:VCALENDAR
PRODID:-//kirchenweb.ch gmbh//veranstaltungsausgabe v2.0//DE
VERSION:2.0
METHOD:PUBLISH
BEGIN:VEVENT
DTSTART:20260619T180000Z
DTEND:20260619T191500Z
LOCATION:Kirche Gümligen\, Dorfstrasse 76\, 3073 Gümligen
TRANSP:OPAQUE
SEQUENCE:0
UID:49841-veranstaltung@rkmg.ch
DTSTAMP:20260421T092703Z
DESCRIPTION:Haben Sie gewusst\, dass die Kirche Gümligen auch ein Hotel
  für gefiederte Gäste ist? Es sind die in der Gemeinde heimischen
  Mauersegler\, die hier im Estrich jährlich absteigen. Ab Mai bis August
  ziehen sie jeweils unter Glockengeläute ihre Jungschar auf. Der
  Kirchen-Dachstock spendet Schutz und bietet der Kolonie ein sicheres Dach
  über dem Kopf.\nDer Estrich der Kirche ist für Besucher normalerweise
  geschlossen\, doch an der Führung darf für einmal ins Gebälk gestiegen
  werden. Geleitet wird die Begehung von \nAnnemarie Rickli\,
  Vereinsmitglied beim Natur- und Vogelschutzverein
  Muri-Gümligen-Rüfenacht. Sie betreut die Brutplätze\, führt
  Zählungen durch und rettet Jung­vögel\, die aus dem Nest gefallen
  sind. \nFür die Teilnahme an der Führung bitten wir um eine Anmeldung:
 \nAnnemarie Rickli\, annemarie3073rickli@bluewin.ch / Tel. 031 951 47 59
 \nAnmeldeschluss Erwachsene: 18. Juni (Platzzahl ist beschränkt).\n\n
 \nKontakt: gabrielle.ceppi@rkmg.ch\n\nWeitere Infos:
  https://www.rkmg.ch/veranstaltung/49841
SUMMARY:Mauersegler
PRIORITY:5
X-MICROSOFT-CDO-IMPORTANCE:1
CLASS:PUBLIC
END:VEVENT
END:VCALENDAR
