BEGIN:VCALENDAR
PRODID:-//kirchenweb.ch gmbh//veranstaltungsausgabe v2.0//DE
VERSION:2.0
METHOD:PUBLISH
BEGIN:VEVENT
DTSTART:20270106T163000Z
DTEND:20270106T183000Z
LOCATION:Altes Pfarrhaus\, Thunstrasse 96\, 3074 Muri
TRANSP:OPAQUE
SEQUENCE:0
UID:49307-veranstaltung@rkmg.ch
DTSTAMP:20260318T140416Z
DESCRIPTION:Ausstellung 06.01. - 21.02.2027\n\nDetails folgen \n\nKontakt:
  Franziska Honegger\n\nWeitere Infos:
  https://www.rkmg.ch/veranstaltung/49307
SUMMARY:Vernissage René Rüegsegger
PRIORITY:5
X-MICROSOFT-CDO-IMPORTANCE:1
CLASS:PUBLIC
END:VEVENT
END:VCALENDAR
