BEGIN:VCALENDAR
PRODID:-//kirchenweb.ch gmbh//veranstaltungsausgabe v2.0//DE
VERSION:2.0
METHOD:PUBLISH
BEGIN:VEVENT
DTSTART:20261022T100000Z
DTEND:20261022T120000Z
LOCATION:Thoracherhus\, Kranichweg 10\, 3074 Muri
TRANSP:OPAQUE
SEQUENCE:0
UID:49301-veranstaltung@rkmg.ch
DTSTAMP:20260317T104118Z
DESCRIPTION:gemeinsamer Mittagstisch für alle Generationen der Gemeinde
  Muri-Gümligen\n/ThoracherZmittag\n\nKontakt: Stephan Kormann\n\nWeitere
  Infos: https://www.rkmg.ch/veranstaltung/49301
SUMMARY:GenerationenZmittag
PRIORITY:5
X-MICROSOFT-CDO-IMPORTANCE:1
CLASS:PUBLIC
END:VEVENT
END:VCALENDAR
