BEGIN:VCALENDAR
PRODID:-//kirchenweb.ch gmbh//veranstaltungsausgabe v2.0//DE
VERSION:2.0
METHOD:PUBLISH
BEGIN:VEVENT
DTSTART:20260912T080000Z
DTEND:20260912T090000Z
LOCATION:Kirche Muri\, Thunstrasse 98\, 3074 Muri
TRANSP:OPAQUE
SEQUENCE:0
UID:49213-veranstaltung@rkmg.ch
DTSTAMP:20260213T102356Z
DESCRIPTION:Kontakt: Pascal-Olivier Ramelet\n\nWeitere Infos:
  https://www.rkmg.ch/veranstaltung/49213
SUMMARY:Fiire mit de Chliine
PRIORITY:5
X-MICROSOFT-CDO-IMPORTANCE:1
CLASS:PUBLIC
END:VEVENT
END:VCALENDAR
