BEGIN:VCALENDAR
PRODID:-//kirchenweb.ch gmbh//veranstaltungsausgabe v2.0//DE
VERSION:2.0
METHOD:PUBLISH
BEGIN:VEVENT
DTSTART:20260828T070000Z
DTEND:20260828T140000Z
LOCATION:Altes Pfarrhaus\, Thunstrasse 96\, 3074 Muri
TRANSP:OPAQUE
SEQUENCE:0
UID:49211-veranstaltung@rkmg.ch
DTSTAMP:20260212T134154Z
DESCRIPTION:Herzkissen entlasten die Narbe von Brustkrebspatient:innen
  nach der Operation.\nSie werden von Freiwilligen hergestellt\, mit guten
  Wünschen gefüllt und\nvia Brustkrebszentren an die Betroffenen
  verschenkt.\nHaben Sie saubere Stoffreste aus Baumwolle (kein Jersey)\,
  gut erhaltene Tischtücher\noder Bettbezüge (nicht zu dünn)? Sie
  können Stoffe mitbringen oder vorher im Alten\nPfarrhaus abgeben. Alles
  übrige Material ist da; keine Nähkenntnisse nötig –\nes braucht auch
  Helfende\, die Herzen zuschneiden\, bügeln\, stopfen und zunähen.\n
 \nTeilnahme für halben oder ganzen Tag möglich. Freiwilliges Mittagessen
  zu Lasten der\nTeilnehmenden im Alten Pfarrhaus. Auch hier\, bitte
  anmelden.\n\nAdresse: Altes Pfarrhaus\, Thunstrasse 96\, 3074 Muri
 \nwww.altespfarrhaus.ch\n\nKontakt: gabrielle.ceppi@rkmg.ch\n\nWeitere
  Infos: https://www.rkmg.ch/veranstaltung/49211
SUMMARY:Herzkissen nähen
PRIORITY:5
X-MICROSOFT-CDO-IMPORTANCE:1
CLASS:PUBLIC
END:VEVENT
END:VCALENDAR
