BEGIN:VCALENDAR
PRODID:-//kirchenweb.ch gmbh//veranstaltungsausgabe v2.0//DE
VERSION:2.0
METHOD:PUBLISH
BEGIN:VEVENT
DTSTART:20260604T150000Z
DTEND:20260604T200000Z
LOCATION:Altes Pfarrhaus\, Thunstrasse 96\, 3034 Muri b. Bern
TRANSP:OPAQUE
SEQUENCE:0
UID:49185-veranstaltung@rkmg.ch
DTSTAMP:20260123T163907Z
DESCRIPTION:Details folgen \n\nKontakt: Franziska Honegger\n\nWeitere
  Infos: https://www.rkmg.ch/veranstaltung/49185
SUMMARY:Sommerfest Altes Pfarrhaus
PRIORITY:5
X-MICROSOFT-CDO-IMPORTANCE:1
CLASS:PUBLIC
END:VEVENT
END:VCALENDAR
