BEGIN:VCALENDAR
PRODID:-//kirchenweb.ch gmbh//veranstaltungsausgabe v2.0//DE
VERSION:2.0
METHOD:PUBLISH
BEGIN:VEVENT
DTSTART:20260805T150000Z
DTEND:20260805T190000Z
LOCATION:Kirchgemeindehaus Muri\, Thunstrasse 98\, 3074 Muri
TRANSP:OPAQUE
SEQUENCE:0
UID:49173-veranstaltung@rkmg.ch
DTSTAMP:20260118T105601Z
DESCRIPTION:Kontakt: Stephan Kormann\n\nWeitere Infos:
  https://www.rkmg.ch/veranstaltung/49173
SUMMARY:Sommer Ferienpass 65+ Sommerfest
PRIORITY:5
X-MICROSOFT-CDO-IMPORTANCE:1
CLASS:PUBLIC
END:VEVENT
END:VCALENDAR
