BEGIN:VCALENDAR
PRODID:-//kirchenweb.ch gmbh//veranstaltungsausgabe v2.0//DE
VERSION:2.0
METHOD:PUBLISH
BEGIN:VEVENT
DTSTART:20261202T160000Z
DTEND:20261202T190000Z
LOCATION:Altes Pfarrhaus\, \,
TRANSP:OPAQUE
SEQUENCE:0
UID:48583-veranstaltung@rkmg.ch
DTSTAMP:20251201T085738Z
DESCRIPTION:Das Strick-Café findet immer am ersten Mittwochabend im Monat
  im Alten Pfarrhaus statt. Die Teilnahme ist kostenlos\, keine Anmeldung
  nötig\, einfach vorbei kommen.\n\nKontakt: gabrielle.ceppi@rkmg.ch\n
 \nWeitere Infos: https://www.rkmg.ch/veranstaltung/48583
SUMMARY:Strick-Café
PRIORITY:5
X-MICROSOFT-CDO-IMPORTANCE:1
CLASS:PUBLIC
END:VEVENT
END:VCALENDAR
