BEGIN:VCALENDAR
PRODID:-//kirchenweb.ch gmbh//veranstaltungsausgabe v2.0//DE
VERSION:2.0
METHOD:PUBLISH
BEGIN:VEVENT
DTSTART:20261111T170000Z
DTEND:20261111T173000Z
LOCATION:Kirche Muri\, Thunstrasse 98\, 3074 Muri
TRANSP:OPAQUE
SEQUENCE:0
UID:48399-veranstaltung@rkmg.ch
DTSTAMP:20251120T152058Z
DESCRIPTION:In der Stille erleben Menschen aller Glaubensrichtungen Gott. 
 \nErst wenn es in uns ruhig wird\, können wir auf das Göttliche hören. 
 \n\nAus dieser Überzeugung heraus wollen wir jeden Mittwoch um 18.00 –
  18.30 Uhr eine halbstündige Andacht in der Kirche Muri feiern. Nach
  einer gleichbleibenden Liturgie wollen wir still werden und unser Herz zu
  dem ausrichten\, der unser Erkennen übersteigt. \nWahlweise auf einem
  Stuhl sitzend oder auf einem Gebetskissen ruhend.\nVorwissen brauchen Sie
  nicht\, vielleicht bequeme Kleidung und den Mut\, sich auf die Stille
  einzulassen. \n\nHerzliche Einladung\n\n\n\n\n\nKontakt: Susanne
  Pelozzi\, Tel. 079 335 98 84\n\nWeitere Infos:
  https://www.rkmg.ch/veranstaltung/48399
SUMMARY:Stille und Achtsamkeit
PRIORITY:5
X-MICROSOFT-CDO-IMPORTANCE:1
CLASS:PUBLIC
END:VEVENT
END:VCALENDAR
