BEGIN:VCALENDAR
PRODID:-//kirchenweb.ch gmbh//veranstaltungsausgabe v2.0//DE
VERSION:2.0
METHOD:PUBLISH
BEGIN:VEVENT
DTSTART:20261118T173000Z
DTEND:20261118T190000Z
LOCATION:Altes Pfarrhaus\, Thunstrasse 96\, 3074 Muri
TRANSP:OPAQUE
SEQUENCE:0
UID:48340-veranstaltung@rkmg.ch
DTSTAMP:20251119T214051Z
DESCRIPTION:Kontakt: Christian Münch\n\nWeitere Infos:
  https://www.rkmg.ch/veranstaltung/48340
SUMMARY:Kamingespräche
PRIORITY:5
X-MICROSOFT-CDO-IMPORTANCE:1
CLASS:PUBLIC
END:VEVENT
END:VCALENDAR
