BEGIN:VCALENDAR
PRODID:-//kirchenweb.ch gmbh//veranstaltungsausgabe v2.0//DE
VERSION:2.0
METHOD:PUBLISH
BEGIN:VEVENT
DTSTART:20260420T120000Z
DTEND:20260420T140000Z
LOCATION:Kirchgemeindehaus Muri\, Thunstrasse 98\, 3074 Muri
TRANSP:OPAQUE
SEQUENCE:0
UID:48210-veranstaltung@rkmg.ch
DTSTAMP:20251113T132200Z
DESCRIPTION:Dirigent: Valentin Dreifuss\nKonzertmeisterin: Charlotte
  Kreuzer\n\n\nWeitere Informationen zum /seniorenorchester mit
  Datenübersicht.\n\nKontakt: \n\nWeitere Infos:
  https://www.rkmg.ch/veranstaltung/48210
SUMMARY:Seniorenorchester
PRIORITY:5
X-MICROSOFT-CDO-IMPORTANCE:1
CLASS:PUBLIC
END:VEVENT
END:VCALENDAR
