BEGIN:VCALENDAR
PRODID:-//kirchenweb.ch gmbh//veranstaltungsausgabe v2.0//DE
VERSION:2.0
METHOD:PUBLISH
BEGIN:VEVENT
DTSTART:20261028T140000Z
DTEND:20261028T150000Z
LOCATION:Alterszentrum Alenia\, Worbstrasse 296\, 3073 Gümligen
TRANSP:OPAQUE
SEQUENCE:0
UID:48193-veranstaltung@rkmg.ch
DTSTAMP:20251203T101234Z
DESCRIPTION:Gottesdienst mit Abenmahl mit Pfrn. Rahel Hesse und
  Kirchenmusiker\n\nKontakt: Rahel Hesse\n\nWeitere Infos:
  https://www.rkmg.ch/veranstaltung/48193
SUMMARY:Andacht Alenia Worbstrasse
PRIORITY:5
X-MICROSOFT-CDO-IMPORTANCE:1
CLASS:PUBLIC
END:VEVENT
END:VCALENDAR
