BEGIN:VCALENDAR
PRODID:-//kirchenweb.ch gmbh//veranstaltungsausgabe v2.0//DE
VERSION:2.0
METHOD:PUBLISH
BEGIN:VEVENT
DTSTART:20261209T140000Z
DTEND:20261209T150000Z
LOCATION:APH Buchegg\, Thunstrasse 51\, 3074 Muri b. Bern
TRANSP:OPAQUE
SEQUENCE:0
UID:48175-veranstaltung@rkmg.ch
DTSTAMP:20260218T104822Z
DESCRIPTION:Andacht mit Pfrn. Rahel Hesse und Kirchenmusiker\n\nKontakt:
  Rahel Hesse\n\nWeitere Infos: https://www.rkmg.ch/veranstaltung/48175
SUMMARY:Andacht Buchegg
PRIORITY:5
X-MICROSOFT-CDO-IMPORTANCE:1
CLASS:PUBLIC
END:VEVENT
END:VCALENDAR
