BEGIN:VCALENDAR
PRODID:-//kirchenweb.ch gmbh//veranstaltungsausgabe v2.0//DE
VERSION:2.0
METHOD:PUBLISH
BEGIN:VEVENT
DTSTART:20260308T160000Z
DTEND:20260308T170000Z
LOCATION:Kirche Muri\, Thunstrasse 98\, 3074 Muri
TRANSP:OPAQUE
SEQUENCE:0
UID:48159-veranstaltung@rkmg.ch
DTSTAMP:20260209T220420Z
DESCRIPTION:Albina Asadullina: Sopran\nDarina Lüthi: Klavier\nNikita
  Verovkin: Akkordeon\n\nEintritt frei / Kollekte\n\nKontakt:
  susanne.pelozzi@rkmg.ch\n\nWeitere Infos:
  https://www.rkmg.ch/veranstaltung/48159
SUMMARY:Konzert " Musikalische Meisterwerke für Frauen\, über Frauen und
  von Frauen"
PRIORITY:5
X-MICROSOFT-CDO-IMPORTANCE:1
CLASS:PUBLIC
END:VEVENT
END:VCALENDAR
