BEGIN:VCALENDAR
PRODID:-//kirchenweb.ch gmbh//veranstaltungsausgabe v2.0//DE
VERSION:2.0
METHOD:PUBLISH
BEGIN:VEVENT
DTSTART:20260213T112500Z
DTEND:20260213T150000Z
LOCATION:Schwarzenegg\, \,
TRANSP:OPAQUE
SEQUENCE:0
UID:48152-veranstaltung@rkmg.ch
DTSTAMP:20260226T055437Z
DESCRIPTION:Die Bahn bringt uns nach Thun.\nDer Bus fährt uns bis
  Schwarzenegg Bären.\nHoffentlich mit Sonnenschein spazieren wir eine
  Runde in Schwarzenegg.\n\n/dok/010727\n\nKontakt: Heidi Hugi\, 079 630 32
  62\n\nWeitere Infos: https://www.rkmg.ch/veranstaltung/48152
SUMMARY:Spaziergang – Schwarzenegg
PRIORITY:5
X-MICROSOFT-CDO-IMPORTANCE:1
CLASS:PUBLIC
END:VEVENT
END:VCALENDAR
