BEGIN:VCALENDAR
PRODID:-//kirchenweb.ch gmbh//veranstaltungsausgabe v2.0//DE
VERSION:2.0
METHOD:PUBLISH
BEGIN:VEVENT
DTSTART:20260420T120000Z
DTEND:20260420T140000Z
LOCATION:Thoracherhus\, Kranichweg 10\, 3074 Muri
TRANSP:OPAQUE
SEQUENCE:0
UID:47953-veranstaltung@rkmg.ch
DTSTAMP:20251021T083137Z
DESCRIPTION:Ein gemeinsamer Treffpunkt\, alle zwei Wochen im Thoracherhus.
  Wir stricken für den guten Zweck.\n\nKontakt: Silvia Schär\, 031 951 43
  47\, 079 670 86 40\n\nWeitere Infos:
  https://www.rkmg.ch/veranstaltung/47953
SUMMARY:Abesitz
PRIORITY:5
X-MICROSOFT-CDO-IMPORTANCE:1
CLASS:PUBLIC
END:VEVENT
END:VCALENDAR
