BEGIN:VCALENDAR
PRODID:-//kirchenweb.ch gmbh//veranstaltungsausgabe v2.0//DE
VERSION:2.0
METHOD:PUBLISH
BEGIN:VEVENT
DTSTART:20260601T073000Z
DTEND:20260601T090000Z
LOCATION:Kirchgemeindehaus Muri\, Thunstrasse 98\, 3074 Muri
TRANSP:OPAQUE
SEQUENCE:0
UID:47889-veranstaltung@rkmg.ch
DTSTAMP:20251015T214100Z
DESCRIPTION:Nähere Angaben zu diesem Angebot: https://www.rkmg.ch/simi\n
 \nKontakt: Kristina Bühler\n\nWeitere Infos:
  https://www.rkmg.ch/veranstaltung/47889
SUMMARY:SIMI – «Singe mit de Chliine»
PRIORITY:5
X-MICROSOFT-CDO-IMPORTANCE:1
CLASS:PUBLIC
END:VEVENT
END:VCALENDAR
