BEGIN:VCALENDAR
PRODID:-//kirchenweb.ch gmbh//veranstaltungsausgabe v2.0//DE
VERSION:2.0
METHOD:PUBLISH
BEGIN:VEVENT
DTSTART:20251224T173000Z
DTEND:20251224T210000Z
LOCATION:Kirchgemeindehaus Muri\, Thunstrasse 98\, 3074 Muri
TRANSP:OPAQUE
SEQUENCE:0
UID:47811-veranstaltung@rkmg.ch
DTSTAMP:20251218T110214Z
DESCRIPTION:Am Heiligabend geniessen wir das gesellige Zusammensein in der
  offenen Tafelrunde\, der Tavolata: eine warme Suppe mit Brot\, etwas
  Süsses und gute Gespräche.\n\nGross und klein\, alt und jung – alle
  sind eingeladen zum gemeinsamen Znacht. Der Anlass ist kostenlos. \n\nWir
  freuen uns auf Eure Anmeldungen bis am Montag\, 22.12.25! \nBitte geben
  Sie die Anzahl der Personen an\, das erleichtert uns die Planung.\nWer
  mag\, bringt einen Beitrag zum Dessertbuffet mit\, danke.\n\n\nKontakt:
  Magdalena Zeindler\nRobert Altenburg\n\nWeitere Infos:
  https://www.rkmg.ch/veranstaltung/47811
SUMMARY:Weihnachts-Tavolata
PRIORITY:5
X-MICROSOFT-CDO-IMPORTANCE:1
CLASS:PUBLIC
END:VEVENT
END:VCALENDAR
