BEGIN:VCALENDAR
PRODID:-//kirchenweb.ch gmbh//veranstaltungsausgabe v2.0//DE
VERSION:2.0
METHOD:PUBLISH
BEGIN:VEVENT
DTSTART:20260617T113000Z
DTEND:20260617T143000Z
LOCATION:auswärts\, \,
TRANSP:OPAQUE
SEQUENCE:0
UID:47674-veranstaltung@rkmg.ch
DTSTAMP:20250710T062216Z
DESCRIPTION:Achtung: nur Ersatzdatum wenn nicht am Mittwoch\, 10. Juni
  2026\n\nAusflug\, Details folgen\n\nWie schmeckte eigentlich das Leben
  zur Zeit Jesu? \nWelche Geschmäcker kannten die Menschen zu dieser Zeit?
 \nWir gehen auf die Suche nach den Geschmäckern «Süss\, Sauer\, Salzig
  und Scharf».\nWas wurde verwendet\, um Speisen zu süssen? \nWie wurde
  scharfer Senf hergestellt?\nWie ist das mit Salz? \nUnd woher kam damals
  Säure?\nWir stellen uns in die Küche und erproben einiges selber.\nWir
  besuchen einen Imker und auch die Rheinsalinen in Basel.\n\nKontakt:
  Pascal-Olivier Ramelet\n\nWeitere Infos:
  https://www.rkmg.ch/veranstaltung/47674
SUMMARY:KUW 7. Klasse: WFK Wie schmeckt eigentlich die Bibel? – evtl.
  Ersatzdatum
PRIORITY:5
X-MICROSOFT-CDO-IMPORTANCE:1
CLASS:PUBLIC
END:VEVENT
END:VCALENDAR
