BEGIN:VCALENDAR
PRODID:-//kirchenweb.ch gmbh//veranstaltungsausgabe v2.0//DE
VERSION:2.0
METHOD:PUBLISH
BEGIN:VEVENT
DTSTART:20260603T120000Z
DTEND:20260603T143000Z
LOCATION:Thoracherhus\, Kranichweg 10\, 3074 Muri
TRANSP:OPAQUE
SEQUENCE:0
UID:47671-veranstaltung@rkmg.ch
DTSTAMP:20250710T062131Z
DESCRIPTION:Wie schmeckte eigentlich das Leben zur Zeit Jesu? \nWelche
  Geschmäcker kannten die Menschen zu dieser Zeit?\nWir gehen auf die
  Suche nach den Geschmäckern «Süss\, Sauer\, Salzig und Scharf».\nWas
  wurde verwendet\, um Speisen zu süssen? \nWie wurde scharfer Senf
  hergestellt?\nWie ist das mit Salz? \nUnd woher kam damals Säure?\nWir
  stellen uns in die Küche und erproben einiges selber.\nWir besuchen
  einen Imker und auch die Rheinsalinen in Basel.\n\nKontakt:
  Pascal-Olivier Ramelet\n\nWeitere Infos:
  https://www.rkmg.ch/veranstaltung/47671
SUMMARY:KUW 7. Klasse: WFK Wie schmeckt eigentlich die Bibel?
PRIORITY:5
X-MICROSOFT-CDO-IMPORTANCE:1
CLASS:PUBLIC
END:VEVENT
END:VCALENDAR
