BEGIN:VCALENDAR
PRODID:-//kirchenweb.ch gmbh//veranstaltungsausgabe v2.0//DE
VERSION:2.0
METHOD:PUBLISH
BEGIN:VEVENT
DTSTART:20260602T153000Z
DTEND:20260602T170000Z
LOCATION:Thoracherhus\, Kranichweg 10\, 3074 Muri
TRANSP:OPAQUE
SEQUENCE:0
UID:47670-veranstaltung@rkmg.ch
DTSTAMP:20250728T082106Z
DESCRIPTION:Wie schmeckte eigentlich das Leben zur Zeit Jesu? \nWelche
  Geschmäcker kannten die Menschen zu dieser Zeit?\nWir gehen auf die
  Suche nach den Geschmäckern «Süss\, Sauer\, Salzig und Scharf».\nWas
  wurde verwendet\, um Speisen zu süssen? \nWie wurde scharfer Senf
  hergestellt?\nWie ist das mit Salz? \nUnd woher kam damals Säure?\nWir
  stellen uns in die Küche und erproben einiges selber.\nWir besuchen
  einen Imker und auch die Rheinsalinen in Basel.\n\nKontakt:
  Pascal-Olivier Ramelet\n\nWeitere Infos:
  https://www.rkmg.ch/veranstaltung/47670
SUMMARY:KUW 7. Klasse: WFK Wie schmeckt eigentlich die Bibel? –
  Anmeldung
PRIORITY:5
X-MICROSOFT-CDO-IMPORTANCE:1
CLASS:PUBLIC
END:VEVENT
END:VCALENDAR
