BEGIN:VCALENDAR
PRODID:-//kirchenweb.ch gmbh//veranstaltungsausgabe v2.0//DE
VERSION:2.0
METHOD:PUBLISH
BEGIN:VEVENT
DTSTART:20260304T130000Z
DTEND:20260304T163000Z
LOCATION:Kirchgemeindehaus Muri\, Thunstrasse 98\, 3074 Muri
TRANSP:OPAQUE
SEQUENCE:0
UID:47666-veranstaltung@rkmg.ch
DTSTAMP:20250710T061642Z
DESCRIPTION:Zu den Helden Hollywoods gehören nicht nur Comic-Figuren wie
  Batman\, Ironman und Spiderman\, sondern auch biblische Gestalten wie
  Noah\, Moses und Jesus. Immer wieder greift die Filmindustrie auf
  Erzählstoffe aus der Bibel zurück und bringt sie in neuer
  Interpretation auf die Leinwand. Die Jahrtausende alten Geschichten des
  Alten und Neuen Testaments vermögen das Publikum noch heute zu fesseln\,
  bieten sie doch die ‹action\, fantasy & love›\, die das moderne
  Kinoherz begehrt. Im Wahlfachkurs schauen wir uns zwei Bibelfilme
  vollständig an\, wozu wir die entsprechenden Bibeltexte lesen und
  besprechen.\n\nKontakt: Christian Münch\n\nWeitere Infos:
  https://www.rkmg.ch/veranstaltung/47666
SUMMARY:KUW 7. Klasse: WFK Die Bibel im Kino
PRIORITY:5
X-MICROSOFT-CDO-IMPORTANCE:1
CLASS:PUBLIC
END:VEVENT
END:VCALENDAR
