BEGIN:VCALENDAR
PRODID:-//kirchenweb.ch gmbh//veranstaltungsausgabe v2.0//DE
VERSION:2.0
METHOD:PUBLISH
BEGIN:VEVENT
DTSTART:20260430T163000Z
DTEND:20260430T180000Z
LOCATION:Kirchgemeindehaus Muri\, Thunstrasse 98\, 3074 Muri
TRANSP:OPAQUE
SEQUENCE:0
UID:47662-veranstaltung@rkmg.ch
DTSTAMP:20251014T173115Z
DESCRIPTION:Kontakt: Christian Münch\n\nWeitere Infos:
  https://www.rkmg.ch/veranstaltung/47662
SUMMARY:KUW 9. Klasse MuC
PRIORITY:5
X-MICROSOFT-CDO-IMPORTANCE:1
CLASS:PUBLIC
END:VEVENT
END:VCALENDAR
