BEGIN:VCALENDAR
PRODID:-//kirchenweb.ch gmbh//veranstaltungsausgabe v2.0//DE
VERSION:2.0
METHOD:PUBLISH
BEGIN:VEVENT
DTSTART:20260320T173000Z
DTEND:20260320T183000Z
LOCATION:Kirche Gümligen\, Dorfstrasse 76\, 3073 Gümligen
TRANSP:OPAQUE
SEQUENCE:0
UID:47574-veranstaltung@rkmg.ch
DTSTAMP:20260308T090358Z
DESCRIPTION:Kontakt: Eliane Diethelm\n\nWeitere Infos:
  https://www.rkmg.ch/veranstaltung/47574
SUMMARY:Fyrabe-Gottesdienst\, KUW 6. Kl.
PRIORITY:5
X-MICROSOFT-CDO-IMPORTANCE:1
CLASS:PUBLIC
END:VEVENT
END:VCALENDAR
