BEGIN:VCALENDAR
PRODID:-//kirchenweb.ch gmbh//veranstaltungsausgabe v2.0//DE
VERSION:2.0
METHOD:PUBLISH
BEGIN:VEVENT
DTSTART:20260527T113000Z
DTEND:20260527T140000Z
LOCATION:Kirchgemeindehaus Gümligen\, Dorfstrasse 76\, 3073 Gümligen
TRANSP:OPAQUE
SEQUENCE:0
UID:47540-veranstaltung@rkmg.ch
DTSTAMP:20250618T133307Z
DESCRIPTION:Kontakt: Eliane Diethelm\n\nWeitere Infos:
  https://www.rkmg.ch/veranstaltung/47540
SUMMARY:KUW 1. Kl. Dorf | Moos a&b
PRIORITY:5
X-MICROSOFT-CDO-IMPORTANCE:1
CLASS:PUBLIC
END:VEVENT
END:VCALENDAR
