BEGIN:VCALENDAR
PRODID:-//kirchenweb.ch gmbh//veranstaltungsausgabe v2.0//DE
VERSION:2.0
METHOD:PUBLISH
BEGIN:VEVENT
DTSTART:20260529T160000Z
DTEND:20260529T215900Z
LOCATION:Kirchgemeindehaus Muri\, Thunstrasse 98\, 3074 Muri
TRANSP:OPAQUE
SEQUENCE:0
UID:47527-veranstaltung@rkmg.ch
DTSTAMP:20250715T094309Z
DESCRIPTION:Du bist einzigartig. \nDu bist im Wandel. \nDu bist genau
  richtig.\n\nIm Kurs «Be you(tiful)» dreht sich alles um dich – und um
  starke Frauen der ­Bibel\ndie ihren Weg gegangen sind.\nGemeinsam
  ergründen wir\, was es heisst\, auf dem Weg vom Mädchen zur jungen Frau
  zu sein.\nMit Herz\, Kopf und Hand nähern wir uns Fragen wie:\nWas tut
  mir gut? Was hilft mir? Wer bin ich – und wie will ich sein?\n\nDich
  erwarten:\n–	Frauenrunde am Samstagmorgen\n–	Gemeinsam kochen\, essen
  & frühstücken\n–	Kreative\, bewegte & ruhige Zeiten\n–	Gespräche\,
  Austausch & Gemeinschaft\n\nACHTUNG: Dieser Kurs ist nur für Mädchen\,
  Modis\, Young Girls und (angehende) junge Frauen.\n\nMitnehmen
 \nSchlafsack\, Offenheit\, Neugier\, Beitrag zum Frühstück	(Liste folgt)
 \n\nKontakt: Dolores Hofmann\n\nWeitere Infos:
  https://www.rkmg.ch/veranstaltung/47527
SUMMARY:KUW 7. Klasse: WFK Be YOU (tiful) – Anmeldung
PRIORITY:5
X-MICROSOFT-CDO-IMPORTANCE:1
CLASS:PUBLIC
END:VEVENT
END:VCALENDAR
