BEGIN:VCALENDAR
PRODID:-//kirchenweb.ch gmbh//veranstaltungsausgabe v2.0//DE
VERSION:2.0
METHOD:PUBLISH
BEGIN:VEVENT
DTSTART:20250804T070000Z
DTEND:20250804T090000Z
LOCATION:Altes Pfarrhaus\, Thunstrasse 96\, 3074 Muri
TRANSP:OPAQUE
SEQUENCE:0
UID:47510-veranstaltung@rkmg.ch
DTSTAMP:20250610T094653Z
DESCRIPTION:Herzlich willkommen zu einer gemütlichen\, angeregten
  Diskussionsrunde über Gott und die Welt.\n\nWir treffen uns jeden ersten
  Montag im Monat im Alten Pfarrhaus an der Thunstrasse.\nNach einem kurzen
  Input von einer Pfarrperson geniessen wir einen Kaffee und ein Gipfeli\,
  serviert von unserer Mitarbeiterin Vivianne Vinzens.\n\nWir freuen uns
  auf Sie!\n\nKontakt: Dorothea Murri\n\nWeitere Infos:
  https://www.rkmg.ch/veranstaltung/47510
SUMMARY:Eine Pfarrerin lädt ein
PRIORITY:5
X-MICROSOFT-CDO-IMPORTANCE:1
CLASS:PUBLIC
END:VEVENT
END:VCALENDAR
