BEGIN:VCALENDAR
PRODID:-//kirchenweb.ch gmbh//veranstaltungsausgabe v2.0//DE
VERSION:2.0
METHOD:PUBLISH
BEGIN:VEVENT
DTSTART:20250925T100000Z
DTEND:20250925T120000Z
LOCATION:Thoracherhus\, Kranichweg 10\, 3074 Muri
TRANSP:OPAQUE
SEQUENCE:0
UID:47489-veranstaltung@rkmg.ch
DTSTAMP:20250604T071617Z
DESCRIPTION:gemeinsamer Mittagstisch für Seniorinnen und Senioren der
  Gemeinde Muri-Gümligen\n/ThoracherZmittag\n\nKontakt: Stephan Kormann\n
 \nWeitere Infos: https://www.rkmg.ch/veranstaltung/47489
SUMMARY:ThoracherZmittag
PRIORITY:5
X-MICROSOFT-CDO-IMPORTANCE:1
CLASS:PUBLIC
END:VEVENT
END:VCALENDAR
