BEGIN:VCALENDAR
PRODID:-//kirchenweb.ch gmbh//veranstaltungsausgabe v2.0//DE
VERSION:2.0
METHOD:PUBLISH
BEGIN:VEVENT
DTSTART:20250522T150000Z
DTEND:20250522T190000Z
LOCATION:Altes Pfarrhaus\, Thunstrasse 96\, 3074 Muri
TRANSP:OPAQUE
SEQUENCE:0
UID:47397-veranstaltung@rkmg.ch
DTSTAMP:20250519T064815Z
DESCRIPTION:Jeden ersten Donnerstagabend im Monat ist Apéro-Zeit im Alten
  Pfarrhaus: Mit coolen Drinks\, Apéroplättchen und gemütlicher
  Stimmung. Schauen Sie vorbei! \n\nKontakt: gabrielle.ceppi@rkmg.ch\n
 \nWeitere Infos: https://www.rkmg.ch/veranstaltung/47397
SUMMARY:Apéro-Abend im Alten Pfarrhaus
PRIORITY:5
X-MICROSOFT-CDO-IMPORTANCE:1
CLASS:PUBLIC
END:VEVENT
END:VCALENDAR
