BEGIN:VCALENDAR
PRODID:-//kirchenweb.ch gmbh//veranstaltungsausgabe v2.0//DE
VERSION:2.0
METHOD:PUBLISH
BEGIN:VEVENT
DTSTART:20251216T133000Z
DTEND:20251216T153000Z
LOCATION:Kirchgemeindehaus Gümligen\, Dorfstrasse 76\, 3073 Gümligen
TRANSP:OPAQUE
SEQUENCE:0
UID:47326-veranstaltung@rkmg.ch
DTSTAMP:20251111T092227Z
DESCRIPTION:Die Adventsfeier wird musikalisch von Jacques Pasquier
  umrahmt.\n\nDanach hören wir eine Weihnachtsgeschichte von Hansueli
  Ryser und geniessen ein adventliches Zvieri im Kirchgemeindesaal.\n
 \nKontakt: Stephan Kormann\n\nWeitere Infos:
  https://www.rkmg.ch/veranstaltung/47326
SUMMARY:Café mit Adventsfeier
PRIORITY:5
X-MICROSOFT-CDO-IMPORTANCE:1
CLASS:PUBLIC
END:VEVENT
END:VCALENDAR
