BEGIN:VCALENDAR
PRODID:-//kirchenweb.ch gmbh//veranstaltungsausgabe v2.0//DE
VERSION:2.0
METHOD:PUBLISH
BEGIN:VEVENT
DTSTART:20251104T133000Z
DTEND:20251104T153000Z
LOCATION:Kirchgemeindehaus Gümligen\, Dorfstrasse 76\, 3073 Gümligen
TRANSP:OPAQUE
SEQUENCE:0
UID:47325-veranstaltung@rkmg.ch
DTSTAMP:20251022T162452Z
DESCRIPTION:Sie hat zusammen mit Stephan Kormann zwei Jahre lang den
  Ferienpass 65+ organisiert.\nJetzt berichtet Monika Mathys von ihren
  Abenteuern auf dem Jakobsweg. Lassen Sie sich mitnehmen auf eine
  spannende Reise.\n\nKontakt: Stephan Kormann\n\nWeitere Infos:
  https://www.rkmg.ch/veranstaltung/47325
SUMMARY:Café mit Monika Mathys
PRIORITY:5
X-MICROSOFT-CDO-IMPORTANCE:1
CLASS:PUBLIC
END:VEVENT
END:VCALENDAR
