BEGIN:VCALENDAR
PRODID:-//kirchenweb.ch gmbh//veranstaltungsausgabe v2.0//DE
VERSION:2.0
METHOD:PUBLISH
BEGIN:VEVENT
DTSTART:20251007T123000Z
DTEND:20251007T143000Z
LOCATION:Kirchgemeindehaus Gümligen\, Dorfstrasse 76\, 3073 Gümligen
TRANSP:OPAQUE
SEQUENCE:0
UID:47324-veranstaltung@rkmg.ch
DTSTAMP:20250829T105016Z
DESCRIPTION:„Des Sängers Fluch“ \nProf. Z. Ambronsius alias Hugo
  Kropf\nliest Balladen und Bärndütsches.\n\n\nKontakt: Stephan Kormann\n
 \nWeitere Infos: https://www.rkmg.ch/veranstaltung/47324
SUMMARY:Café mit Hugo Kropf
PRIORITY:5
X-MICROSOFT-CDO-IMPORTANCE:1
CLASS:PUBLIC
END:VEVENT
END:VCALENDAR
