BEGIN:VCALENDAR
PRODID:-//kirchenweb.ch gmbh//veranstaltungsausgabe v2.0//DE
VERSION:2.0
METHOD:PUBLISH
BEGIN:VEVENT
DTSTART:20250902T123000Z
DTEND:20250902T143000Z
LOCATION:Kirchgemeindehaus Gümligen\, Dorfstrasse 76\, 3073 Gümligen
TRANSP:OPAQUE
SEQUENCE:0
UID:47323-veranstaltung@rkmg.ch
DTSTAMP:20250619T093847Z
DESCRIPTION:Konzert mit Lorenz Mühlemann\n\nFachmännische Arbeit in
  allen zitheralen Belangen ist das Credo von Lorenz Mühlemann\, dem
  Schöpfer und Leiter des Schweizer Zither-Kulturzentrums in Trachselwald.
  Begonnen hat alles im Jahre 1977\, als er noch Seminarist in Hofwil war
  und zufällig auf eine Zither stiess. 1999 hat er seine Leidenschaft zum
  Beruf gemacht und bezeichnet sich augenzwinkernd als freischaffender
  Zitherer. Mit Leib und Seele ist er an der Arbeit\, sei es als
  Musiklehrer\, Restaurator oder Künstler. Bei Konzerten springt der Funke
  über\, und er umgarnt sein Publikum mit den feinen Klängen seiner
  Zithern und ihren wechselvollen Geschichten. Seine vielseitige Arbeit
  skizziert er kurz und bündig: sammeln\, restaurieren\, spielen\,
  unterrichten\, erforschen\, dokumentieren\, archivieren\, komponieren\,
  konzertieren. Er ist Autor von Fachbüchern sowie Tonträgern\, bekannt
  von Radiosendungen\, Fernsehbeiträgen\, zahllosen Konzerten und viel
  beachteten Projekten in andern Museen.\n\nKontakt: Stephan Kormann\n
 \nWeitere Infos: https://www.rkmg.ch/veranstaltung/47323
SUMMARY:Café mit ...der Zither
PRIORITY:5
X-MICROSOFT-CDO-IMPORTANCE:1
CLASS:PUBLIC
END:VEVENT
END:VCALENDAR
