BEGIN:VCALENDAR
PRODID:-//kirchenweb.ch gmbh//veranstaltungsausgabe v2.0//DE
VERSION:2.0
METHOD:PUBLISH
BEGIN:VEVENT
DTSTART:20260103T130000Z
DTEND:20260103T150000Z
LOCATION:Kirchgemeindehaus Muri\, Thunstrasse 98\, 3074 Muri
TRANSP:OPAQUE
SEQUENCE:0
UID:47280-veranstaltung@rkmg.ch
DTSTAMP:20251113T132204Z
DESCRIPTION:Dirigent: Valentin Dreifuss\nKonzertmeisterin: Charlotte
  Kreuzer\n\n\nWeitere Informationen zum /seniorenorchester mit
  Datenübersicht.\n\nKontakt: \n\nWeitere Infos:
  https://www.rkmg.ch/veranstaltung/47280
SUMMARY:Seniorenorchester
PRIORITY:5
X-MICROSOFT-CDO-IMPORTANCE:1
CLASS:PUBLIC
END:VEVENT
END:VCALENDAR
