BEGIN:VCALENDAR
PRODID:-//kirchenweb.ch gmbh//veranstaltungsausgabe v2.0//DE
VERSION:2.0
METHOD:PUBLISH
BEGIN:VEVENT
DTSTART:20260521T174500Z
DTEND:20260521T193000Z
LOCATION:Kirchgemeindehaus Muri\, Thunstrasse 98\, 3074 Muri
TRANSP:OPAQUE
SEQUENCE:0
UID:47183-veranstaltung@rkmg.ch
DTSTAMP:20251017T130245Z
DESCRIPTION:Der Cantate Chor Muri-Gümligen freut sich über neue
  Sängerinnen und Sänger. Kommen Sie unverbindlich in eine Probe. Für
  eine vorherige Kontaktaufnahme danken wir.
 \nhttps://www.rkmg.ch/cantatechor\nhttps://www.rkmg.ch/konzert2026\n
 \nKontakt: Ewald Lucas\n\nWeitere Infos:
  https://www.rkmg.ch/veranstaltung/47183
SUMMARY:Cantate Chor Probe Puccini
PRIORITY:5
X-MICROSOFT-CDO-IMPORTANCE:1
CLASS:PUBLIC
END:VEVENT
END:VCALENDAR
