BEGIN:VCALENDAR
PRODID:-//kirchenweb.ch gmbh//veranstaltungsausgabe v2.0//DE
VERSION:2.0
METHOD:PUBLISH
BEGIN:VEVENT
DTSTART:20250420T070000Z
DTEND:20250420T120000Z
LOCATION:Altes Pfarrhaus Muri\, Thunstrasse 96\, 3074 3074 Muri b. Bern
TRANSP:OPAQUE
SEQUENCE:0
UID:47145-veranstaltung@rkmg.ch
DTSTAMP:20250305T145546Z
DESCRIPTION:Herzliche Einladung zum Osterzmorge im Alten Pfarrhaus mit
  Ostereiersuche im Garten. \n\nKontakt: Franziska Honegger\n\nWeitere
  Infos: https://www.rkmg.ch/veranstaltung/47145
SUMMARY:OSTER ZMORGE
PRIORITY:5
X-MICROSOFT-CDO-IMPORTANCE:1
CLASS:PUBLIC
END:VEVENT
END:VCALENDAR
