BEGIN:VCALENDAR
PRODID:-//kirchenweb.ch gmbh//veranstaltungsausgabe v2.0//DE
VERSION:2.0
METHOD:PUBLISH
BEGIN:VEVENT
DTSTART:20261027T130000Z
DTEND:20261027T140000Z
LOCATION:Kirchgemeindehaus Muri\, Thunstrasse 98\, 3074 Muri
TRANSP:OPAQUE
SEQUENCE:0
UID:47091-veranstaltung@rkmg.ch
DTSTAMP:20250220T205907Z
DESCRIPTION:Kontakt: Stephan Kormann : 031 950 44 41\n\nWeitere Infos:
  https://www.rkmg.ch/veranstaltung/47091
SUMMARY:Arbeitskreis Muri
PRIORITY:5
X-MICROSOFT-CDO-IMPORTANCE:1
CLASS:PUBLIC
END:VEVENT
END:VCALENDAR
