BEGIN:VCALENDAR
PRODID:-//kirchenweb.ch gmbh//veranstaltungsausgabe v2.0//DE
VERSION:2.0
METHOD:PUBLISH
BEGIN:VEVENT
DTSTART:20260811T120000Z
DTEND:20260811T130000Z
LOCATION:Kirchgemeindehaus Muri\, Thunstrasse 98\, 3074 Muri
TRANSP:OPAQUE
SEQUENCE:0
UID:47087-veranstaltung@rkmg.ch
DTSTAMP:20250220T205901Z
DESCRIPTION:Kontakt: Stephan Kormann : 031 950 44 41\n\nWeitere Infos:
  https://www.rkmg.ch/veranstaltung/47087
SUMMARY:Arbeitskreis Muri
PRIORITY:5
X-MICROSOFT-CDO-IMPORTANCE:1
CLASS:PUBLIC
END:VEVENT
END:VCALENDAR
